BEGIN:VCALENDAR
VERSION:2.0
PRODID:vecoplan.com
BEGIN:VEVENT
UID:69ece74036414
DTSTART:20241014T020000Z
SEQUENCE:0
TRANSP:OPAQUE
DTEND:20241014T020000Z
LOCATION:Halle 2 | Stand A031
SUMMARY:IFAT India
CLASS:PUBLIC
DTSTAMP:20260425T160936Z
END:VEVENT
END:VCALENDAR