BEGIN:VCALENDAR
VERSION:2.0
PRODID:vecoplan.com
BEGIN:VEVENT
UID:69ea0523d29ac
DTSTART:20250525T200000Z
SEQUENCE:0
TRANSP:OPAQUE
DTEND:20250525T200000Z
LOCATION:Halle 25 | Stand F66
SUMMARY:LIGNA 2025
CLASS:PUBLIC
DTSTAMP:20260423T114019Z
END:VEVENT
END:VCALENDAR