BEGIN:VCALENDAR
VERSION:2.0
PRODID:vecoplan.com
BEGIN:VEVENT
UID:69e5c08c18990
DTSTART:20250311T140943Z
SEQUENCE:0
TRANSP:OPAQUE
DTEND:20250311T140943Z
LOCATION:Hall C | Stand 1445
SUMMARY:Plastimagen
CLASS:PUBLIC
DTSTAMP:20260420T055836Z
END:VEVENT
END:VCALENDAR