BEGIN:VCALENDAR
VERSION:2.0
PRODID:vecoplan.com
BEGIN:VEVENT
UID:69e8895063022
DTSTART:20221019T071937Z
SEQUENCE:0
TRANSP:OPAQUE
DTEND:20221019T071937Z
LOCATION:Halle 9 | Stand B41 und Freigelände FG-CE05
SUMMARY:K 2022
CLASS:PUBLIC
DTSTAMP:20260422T083944Z
END:VEVENT
END:VCALENDAR