BEGIN:VCALENDAR
VERSION:2.0
PRODID:vecoplan.com
BEGIN:VEVENT
UID:69e6dbfbe0854
DTSTART:20250917T060000Z
SEQUENCE:0
TRANSP:OPAQUE
DTEND:20250917T060000Z
LOCATION:Halle 18 | Stand ME-C250
SUMMARY:RWM
CLASS:PUBLIC
DTSTAMP:20260421T020755Z
END:VEVENT
END:VCALENDAR