BEGIN:VCALENDAR
VERSION:2.0
PRODID:vecoplan.com
BEGIN:VEVENT
UID:69e8eee4b0df3
DTSTART:20231010T072034Z
SEQUENCE:0
TRANSP:OPAQUE
DTEND:20231010T072034Z
SUMMARY:Plastics Recycling Technology - Konferenz
CLASS:PUBLIC
DTSTAMP:20260422T155308Z
END:VEVENT
END:VCALENDAR