BEGIN:VCALENDAR
VERSION:2.0
PRODID:vecoplan.com
BEGIN:VEVENT
UID:69ec019075637
DTSTART:20240827T200000Z
SEQUENCE:0
TRANSP:OPAQUE
DTEND:20240827T200000Z
LOCATION:Halle 1 | Stand D 02
SUMMARY:Internationale Holzmesse 
CLASS:PUBLIC
DTSTAMP:20260424T234936Z
END:VEVENT
END:VCALENDAR