BEGIN:VCALENDAR
VERSION:2.0
PRODID:vecoplan.com
BEGIN:VEVENT
UID:69ed972b07e13
DTSTART:20250524T053220Z
SEQUENCE:0
TRANSP:OPAQUE
DTEND:20250524T053220Z
LOCATION:Vecoplan AG
SUMMARY:Tag der Ausbildung bei Vecoplan
CLASS:PUBLIC
DTSTAMP:20260426T044011Z
END:VEVENT
END:VCALENDAR