BEGIN:VCALENDAR
VERSION:2.0
PRODID:vecoplan.com
BEGIN:VEVENT
UID:69e747864e648
DTSTART:20240423T075336Z
SEQUENCE:0
TRANSP:OPAQUE
DTEND:20240423T075336Z
LOCATION:Hall 9.0 | Stand B87
SUMMARY:texprocess
CLASS:PUBLIC
DTSTAMP:20260421T094646Z
END:VEVENT
END:VCALENDAR