BEGIN:VCALENDAR
VERSION:2.0
PRODID:vecoplan.com
BEGIN:VEVENT
UID:69e88d4a46b75
DTSTART:20230906T034823Z
SEQUENCE:0
TRANSP:OPAQUE
DTEND:20230906T034823Z
LOCATION:Stand B-314
SUMMARY:WOOD Bioenergie - Finnland
CLASS:PUBLIC
DTSTAMP:20260422T085642Z
END:VEVENT
END:VCALENDAR