BEGIN:VCALENDAR
VERSION:2.0
PRODID:vecoplan.com
BEGIN:VEVENT
UID:69ea1df3ae3a9
DTSTART:20240910T095736Z
SEQUENCE:0
TRANSP:OPAQUE
DTEND:20240910T095736Z
LOCATION:kulturWERKwissen
SUMMARY:ABOM
CLASS:PUBLIC
DTSTAMP:20260423T132611Z
END:VEVENT
END:VCALENDAR