BEGIN:VCALENDAR
VERSION:2.0
PRODID:vecoplan.com
BEGIN:VEVENT
UID:69e84f93f2c2f
DTSTART:20260506T040036Z
SEQUENCE:0
TRANSP:OPAQUE
DTEND:20260506T040036Z
LOCATION:Realschule plus Daaden
SUMMARY:Ausbildungsbörse Daaden
CLASS:PUBLIC
DTSTAMP:20260422T043323Z
END:VEVENT
END:VCALENDAR