BEGIN:VCALENDAR
VERSION:2.0
PRODID:vecoplan.com
BEGIN:VEVENT
UID:69ea56f6a55ce
DTSTART:20230530T074234Z
SEQUENCE:0
TRANSP:OPAQUE
DTEND:20230530T074234Z
LOCATION:Hall 3 | Stand F47
SUMMARY:Equiplast
CLASS:PUBLIC
DTSTAMP:20260423T172926Z
END:VEVENT
END:VCALENDAR